BEGIN:VCALENDAR
VERSION:2.0
PRODID:-//Cherry Home Shores - ECPv6.15.20//NONSGML v1.0//EN
CALSCALE:GREGORIAN
METHOD:PUBLISH
X-WR-CALNAME:Cherry Home Shores
X-ORIGINAL-URL:https://cherryhomeshores.com
X-WR-CALDESC:Events for Cherry Home Shores
REFRESH-INTERVAL;VALUE=DURATION:PT1H
X-Robots-Tag:noindex
X-PUBLISHED-TTL:PT1H
BEGIN:VTIMEZONE
TZID:America/Detroit
BEGIN:DAYLIGHT
TZOFFSETFROM:-0500
TZOFFSETTO:-0400
TZNAME:EDT
DTSTART:20250309T070000
END:DAYLIGHT
BEGIN:STANDARD
TZOFFSETFROM:-0400
TZOFFSETTO:-0500
TZNAME:EST
DTSTART:20251102T060000
END:STANDARD
BEGIN:DAYLIGHT
TZOFFSETFROM:-0500
TZOFFSETTO:-0400
TZNAME:EDT
DTSTART:20260308T070000
END:DAYLIGHT
BEGIN:STANDARD
TZOFFSETFROM:-0400
TZOFFSETTO:-0500
TZNAME:EST
DTSTART:20261101T060000
END:STANDARD
BEGIN:DAYLIGHT
TZOFFSETFROM:-0500
TZOFFSETTO:-0400
TZNAME:EDT
DTSTART:20270314T070000
END:DAYLIGHT
BEGIN:STANDARD
TZOFFSETFROM:-0400
TZOFFSETTO:-0500
TZNAME:EST
DTSTART:20271107T060000
END:STANDARD
END:VTIMEZONE
BEGIN:VEVENT
DTSTART;TZID=America/Detroit:20260509T100000
DTEND;TZID=America/Detroit:20260509T120000
DTSTAMP:20260422T120155
CREATED:20260115T173934Z
LAST-MODIFIED:20260220T141207Z
UID:6672-1778320800-1778328000@cherryhomeshores.com
SUMMARY:CHA Board Meeting
DESCRIPTION:
URL:https://cherryhomeshores.com/event/cha-board-meeting-3/
END:VEVENT
BEGIN:VEVENT
DTSTART;TZID=America/Detroit:20260509T120000
DTEND;TZID=America/Detroit:20260509T235900
DTSTAMP:20260422T120155
CREATED:20260220T121228Z
LAST-MODIFIED:20260220T141346Z
UID:6734-1778328000-1778371140@cherryhomeshores.com
SUMMARY:George M.  B Party
DESCRIPTION:
URL:https://cherryhomeshores.com/event/george-m-b-party/
END:VEVENT
BEGIN:VEVENT
DTSTART;TZID=America/Detroit:20260513T093000
DTEND;TZID=America/Detroit:20260513T130000
DTSTAMP:20260422T120155
CREATED:20260116T135056Z
LAST-MODIFIED:20260116T135056Z
UID:6699-1778664600-1778677200@cherryhomeshores.com
SUMMARY:mah jongg  (every Wednesday)
DESCRIPTION:
URL:https://cherryhomeshores.com/event/mah-jongg-every-wednesday/
END:VEVENT
BEGIN:VEVENT
DTSTART;TZID=America/Detroit:20260520T093000
DTEND;TZID=America/Detroit:20260520T130000
DTSTAMP:20260422T120155
CREATED:20260116T135240Z
LAST-MODIFIED:20260116T135240Z
UID:6702-1779269400-1779282000@cherryhomeshores.com
SUMMARY:mah jongg
DESCRIPTION:
URL:https://cherryhomeshores.com/event/mah-jongg/
END:VEVENT
BEGIN:VEVENT
DTSTART;TZID=America/Detroit:20260527T093000
DTEND;TZID=America/Detroit:20260527T130000
DTSTAMP:20260422T120155
CREATED:20260116T135452Z
LAST-MODIFIED:20260116T135452Z
UID:6705-1779874200-1779886800@cherryhomeshores.com
SUMMARY:mah jongg
DESCRIPTION:
URL:https://cherryhomeshores.com/event/mah-jongg-2/
END:VEVENT
END:VCALENDAR