BEGIN:VCALENDAR
VERSION:2.0
PRODID:-//Cherry Home Shores - ECPv6.15.20//NONSGML v1.0//EN
CALSCALE:GREGORIAN
METHOD:PUBLISH
X-ORIGINAL-URL:https://cherryhomeshores.com
X-WR-CALDESC:Events for Cherry Home Shores
REFRESH-INTERVAL;VALUE=DURATION:PT1H
X-Robots-Tag:noindex
X-PUBLISHED-TTL:PT1H
BEGIN:VTIMEZONE
TZID:America/Detroit
BEGIN:DAYLIGHT
TZOFFSETFROM:-0500
TZOFFSETTO:-0400
TZNAME:EDT
DTSTART:20250309T070000
END:DAYLIGHT
BEGIN:STANDARD
TZOFFSETFROM:-0400
TZOFFSETTO:-0500
TZNAME:EST
DTSTART:20251102T060000
END:STANDARD
BEGIN:DAYLIGHT
TZOFFSETFROM:-0500
TZOFFSETTO:-0400
TZNAME:EDT
DTSTART:20260308T070000
END:DAYLIGHT
BEGIN:STANDARD
TZOFFSETFROM:-0400
TZOFFSETTO:-0500
TZNAME:EST
DTSTART:20261101T060000
END:STANDARD
BEGIN:DAYLIGHT
TZOFFSETFROM:-0500
TZOFFSETTO:-0400
TZNAME:EDT
DTSTART:20270314T070000
END:DAYLIGHT
BEGIN:STANDARD
TZOFFSETFROM:-0400
TZOFFSETTO:-0500
TZNAME:EST
DTSTART:20271107T060000
END:STANDARD
END:VTIMEZONE
BEGIN:VEVENT
DTSTART;TZID=America/Detroit:20260711T100000
DTEND;TZID=America/Detroit:20260711T130000
DTSTAMP:20260422T185820
CREATED:20260115T174900Z
LAST-MODIFIED:20260115T174900Z
UID:6687-1783764000-1783774800@cherryhomeshores.com
SUMMARY:CHA Board Meeting
DESCRIPTION:
URL:https://cherryhomeshores.com/event/cha-board-meeting-6/
END:VEVENT
BEGIN:VEVENT
DTSTART;TZID=America/Detroit:20260718T120000
DTEND;TZID=America/Detroit:20260718T190000
DTSTAMP:20260422T185820
CREATED:20260223T121809Z
LAST-MODIFIED:20260223T121809Z
UID:6748-1784376000-1784401200@cherryhomeshores.com
SUMMARY:Denise - Birthday
DESCRIPTION:
URL:https://cherryhomeshores.com/event/denise-birthday/
END:VEVENT
BEGIN:VEVENT
DTSTART;VALUE=DATE:20260725
DTEND;VALUE=DATE:20260726
DTSTAMP:20260422T185820
CREATED:20260419T220217Z
LAST-MODIFIED:20260419T220217Z
UID:6806-1784937600-1785023999@cherryhomeshores.com
SUMMARY:Kim P. Birthday Party
DESCRIPTION:
URL:https://cherryhomeshores.com/event/kim-p-birthday-party/
END:VEVENT
BEGIN:VEVENT
DTSTART;TZID=America/Detroit:20260801T110000
DTEND;TZID=America/Detroit:20260801T190000
DTSTAMP:20260422T185820
CREATED:20260220T184503Z
LAST-MODIFIED:20260220T184503Z
UID:6744-1785582000-1785610800@cherryhomeshores.com
SUMMARY:Kevin S.  Birthday
DESCRIPTION:
URL:https://cherryhomeshores.com/event/kevin-s-birthday/
END:VEVENT
BEGIN:VEVENT
DTSTART;TZID=America/Detroit:20260815T100000
DTEND;TZID=America/Detroit:20260815T130000
DTSTAMP:20260422T185820
CREATED:20260115T174305Z
LAST-MODIFIED:20260115T174305Z
UID:6678-1786788000-1786798800@cherryhomeshores.com
SUMMARY:CHA Board Meeting
DESCRIPTION:
URL:https://cherryhomeshores.com/event/cha-board-meeting-4/
END:VEVENT
BEGIN:VEVENT
DTSTART;VALUE=DATE:20260905
DTEND;VALUE=DATE:20260908
DTSTAMP:20260422T185820
CREATED:20260115T174553Z
LAST-MODIFIED:20260115T174553Z
UID:6681-1788566400-1788825599@cherryhomeshores.com
SUMMARY:Holiday
DESCRIPTION:
URL:https://cherryhomeshores.com/event/holiday-2/
END:VEVENT
BEGIN:VEVENT
DTSTART;TZID=America/Detroit:20260912T100000
DTEND;TZID=America/Detroit:20260912T130000
DTSTAMP:20260422T185820
CREATED:20260115T175028Z
LAST-MODIFIED:20260115T175028Z
UID:6690-1789207200-1789218000@cherryhomeshores.com
SUMMARY:CHA Board Meeting
DESCRIPTION:
URL:https://cherryhomeshores.com/event/cha-board-meeting-7/
END:VEVENT
BEGIN:VEVENT
DTSTART;VALUE=DATE:20260918
DTEND;VALUE=DATE:20260921
DTSTAMP:20260422T185820
CREATED:20260115T172753Z
LAST-MODIFIED:20260115T172914Z
UID:6667-1789689600-1789948799@cherryhomeshores.com
SUMMARY:David T - Wedding
DESCRIPTION:
URL:https://cherryhomeshores.com/event/david-wedding/
END:VEVENT
BEGIN:VEVENT
DTSTART;TZID=America/Detroit:20261003T140000
DTEND;TZID=America/Detroit:20261003T190000
DTSTAMP:20260422T185820
CREATED:20260115T175513Z
LAST-MODIFIED:20260115T175513Z
UID:6696-1791036000-1791054000@cherryhomeshores.com
SUMMARY:Chili/Side/Dessert Cook-off
DESCRIPTION:
URL:https://cherryhomeshores.com/event/chili-side-dessert-cook-off/
END:VEVENT
BEGIN:VEVENT
DTSTART;TZID=America/Detroit:20261010T100000
DTEND;TZID=America/Detroit:20261010T130000
DTSTAMP:20260422T185820
CREATED:20260115T175151Z
LAST-MODIFIED:20260115T175151Z
UID:6693-1791626400-1791637200@cherryhomeshores.com
SUMMARY:CHA Board Meeting
DESCRIPTION:
URL:https://cherryhomeshores.com/event/cha-board-meeting-8/
END:VEVENT
END:VCALENDAR