BEGIN:VCALENDAR
VERSION:2.0
PRODID:-//Cherry Home Shores - ECPv6.15.20//NONSGML v1.0//EN
CALSCALE:GREGORIAN
METHOD:PUBLISH
X-WR-CALNAME:Cherry Home Shores
X-ORIGINAL-URL:https://cherryhomeshores.com
X-WR-CALDESC:Events for Cherry Home Shores
REFRESH-INTERVAL;VALUE=DURATION:PT1H
X-Robots-Tag:noindex
X-PUBLISHED-TTL:PT1H
BEGIN:VTIMEZONE
TZID:America/Detroit
BEGIN:DAYLIGHT
TZOFFSETFROM:-0500
TZOFFSETTO:-0400
TZNAME:EDT
DTSTART:20200308T070000
END:DAYLIGHT
BEGIN:STANDARD
TZOFFSETFROM:-0400
TZOFFSETTO:-0500
TZNAME:EST
DTSTART:20201101T060000
END:STANDARD
BEGIN:DAYLIGHT
TZOFFSETFROM:-0500
TZOFFSETTO:-0400
TZNAME:EDT
DTSTART:20210314T070000
END:DAYLIGHT
BEGIN:STANDARD
TZOFFSETFROM:-0400
TZOFFSETTO:-0500
TZNAME:EST
DTSTART:20211107T060000
END:STANDARD
BEGIN:DAYLIGHT
TZOFFSETFROM:-0500
TZOFFSETTO:-0400
TZNAME:EDT
DTSTART:20220313T070000
END:DAYLIGHT
BEGIN:STANDARD
TZOFFSETFROM:-0400
TZOFFSETTO:-0500
TZNAME:EST
DTSTART:20221106T060000
END:STANDARD
BEGIN:DAYLIGHT
TZOFFSETFROM:-0500
TZOFFSETTO:-0400
TZNAME:EDT
DTSTART:20230312T070000
END:DAYLIGHT
BEGIN:STANDARD
TZOFFSETFROM:-0400
TZOFFSETTO:-0500
TZNAME:EST
DTSTART:20231105T060000
END:STANDARD
BEGIN:DAYLIGHT
TZOFFSETFROM:-0500
TZOFFSETTO:-0400
TZNAME:EDT
DTSTART:20240310T070000
END:DAYLIGHT
BEGIN:STANDARD
TZOFFSETFROM:-0400
TZOFFSETTO:-0500
TZNAME:EST
DTSTART:20241103T060000
END:STANDARD
BEGIN:DAYLIGHT
TZOFFSETFROM:-0500
TZOFFSETTO:-0400
TZNAME:EDT
DTSTART:20250309T070000
END:DAYLIGHT
BEGIN:STANDARD
TZOFFSETFROM:-0400
TZOFFSETTO:-0500
TZNAME:EST
DTSTART:20251102T060000
END:STANDARD
END:VTIMEZONE
BEGIN:VEVENT
DTSTART;TZID=America/Detroit:20240711T090000
DTEND;TZID=America/Detroit:20240711T110000
DTSTAMP:20260422T175446
CREATED:20240707T153424Z
LAST-MODIFIED:20240707T153629Z
UID:5845-1720688400-1720695600@cherryhomeshores.com
SUMMARY:Pickleball Open Play
DESCRIPTION:If you like to play Pickleball\, or to learn more about it\, come to the clubhouse court for open play on Mondays and Thursdays from 9:00 – 11:00 a.m. Everyone is welcome!
URL:https://cherryhomeshores.com/event/pickleball-open-play-2/
END:VEVENT
BEGIN:VEVENT
DTSTART;TZID=America/Detroit:20240708T090000
DTEND;TZID=America/Detroit:20240708T110000
DTSTAMP:20260422T175446
CREATED:20240707T153337Z
LAST-MODIFIED:20240707T153337Z
UID:5849-1720429200-1720436400@cherryhomeshores.com
SUMMARY:Pickleball Open Play
DESCRIPTION:If you like to play Pickleball\, or to learn more about it\, come to the clubhouse court for open play on Mondays and Thursdays from 9:00 – 11:00 a.m. Everyone is welcome!
URL:https://cherryhomeshores.com/event/pickleball-open-play/
LOCATION:CHA Clubhouse
CATEGORIES:calendar,events
END:VEVENT
BEGIN:VEVENT
DTSTART;TZID=America/Detroit:20240707T080000
DTEND;TZID=America/Detroit:20240707T170000
DTSTAMP:20260422T175446
CREATED:20240707T152403Z
LAST-MODIFIED:20240707T152913Z
UID:5839-1720339200-1720371600@cherryhomeshores.com
SUMMARY:CHA Board Meeting
DESCRIPTION:  \n\n\n\nPlease join us for the April 2024 Board of Directors’ meeting on Saturday\, July 13\, at 10:00 am. This meeting will be held in person at the Clubhouse and also available by Zoom. \nCHA is inviting you to a scheduled Zoom meeting. \nTopic: CHA July 2024 Monthly Board mtg \nTime: Jul 13\, 2024 10:00 AM Eastern Time (US and Canada) \nJoin Zoom Meeting \nhttps://us02web.zoom.us/j/81269420514?pwd=hDw0o13cXrXtRIdBhXzSqyjU4XRae2.1 \nMeeting ID: 812 6942 0514 \nPasscode: 903392 \n— \nOne tap mobile \n+13017158592\,\,88666964082#\,\,\,\,*232702# US (Washington DC) \n+13052241968\,\,88666964082#\,\,\,\,*232702# US \n— \nDial by your location \n• +1 301 715 8592 US (Washington DC) \n• +1 305 224 1968 US \n• +1 309 205 3325 US \n• +1 312 626 6799 US (Chicago) \n• +1 646 931 3860 US \n• +1 929 205 6099 US (New York) \n• +1 669 444 9171 US \n• +1 669 900 6833 US (San Jose) \n• +1 689 278 1000 US \n• +1 719 359 4580 US \n• +1 253 205 0468 US \n• +1 253 215 8782 US (Tacoma) \n• +1 346 248 7799 US (Houston) \n• +1 360 209 5623 US \n• +1 386 347 5053 US \n• +1 507 473 4847 US \n• +1 564 217 2000 US \nMeeting ID: 886 6696 4082 \nPasscode: 232702 \nFind your local number: https://us02web.zoom.us/u/kBdMIu9tF \n\n\n\n\n\n\n 
URL:https://cherryhomeshores.com/event/cha-board-meeting/
CATEGORIES:calendar,events
END:VEVENT
BEGIN:VEVENT
DTSTART;TZID=America/Detroit:20231007T140000
DTEND;TZID=America/Detroit:20231007T170000
DTSTAMP:20260422T175446
CREATED:20230828T193412Z
LAST-MODIFIED:20230828T193640Z
UID:5553-1696687200-1696698000@cherryhomeshores.com
SUMMARY:CHA Annual Chili Cookoff
DESCRIPTION:Bring your best chili for our annual CHA Chili Cookout. First spoonful at 2:00 pm.n Questions? Hit the Contact button above.
URL:https://cherryhomeshores.com/event/chili-cookoff/
LOCATION:CHA Clubhouse
CATEGORIES:calendar,events
END:VEVENT
BEGIN:VEVENT
DTSTART;TZID=America/Detroit:20220328T160000
DTEND;TZID=America/Detroit:20220328T170000
DTSTAMP:20260422T175446
CREATED:20220328T143944Z
LAST-MODIFIED:20220328T143944Z
UID:4476-1648483200-1648486800@cherryhomeshores.com
SUMMARY:Test Event
DESCRIPTION:This is only a test.
URL:https://cherryhomeshores.com/event/test-event/
LOCATION:CHA Clubhouse
END:VEVENT
BEGIN:VEVENT
DTSTART;VALUE=DATE:20210906
DTEND;VALUE=DATE:20210907
DTSTAMP:20260422T175446
CREATED:20210827T150218Z
LAST-MODIFIED:20210827T150218Z
UID:4134-1630886400-1630972799@cherryhomeshores.com
SUMMARY:Labor Day
DESCRIPTION:The Labor Day Holiday
URL:https://cherryhomeshores.com/event/labor-day/
CATEGORIES:events
END:VEVENT
END:VCALENDAR